
BEGIN:VCALENDAR
VERSION:2.0
PRODID:-//GBES University - ECPv6.15.20//NONSGML v1.0//EN
CALSCALE:GREGORIAN
METHOD:PUBLISH
X-WR-CALNAME:GBES University
X-ORIGINAL-URL:https://university.gbes.com
X-WR-CALDESC:Events for GBES University
REFRESH-INTERVAL;VALUE=DURATION:PT1H
X-Robots-Tag:noindex
X-PUBLISHED-TTL:PT1H
BEGIN:VTIMEZONE
TZID:America/New_York
BEGIN:DAYLIGHT
TZOFFSETFROM:-0500
TZOFFSETTO:-0400
TZNAME:EDT
DTSTART:20250309T070000
END:DAYLIGHT
BEGIN:STANDARD
TZOFFSETFROM:-0400
TZOFFSETTO:-0500
TZNAME:EST
DTSTART:20251102T060000
END:STANDARD
BEGIN:DAYLIGHT
TZOFFSETFROM:-0500
TZOFFSETTO:-0400
TZNAME:EDT
DTSTART:20260308T070000
END:DAYLIGHT
BEGIN:STANDARD
TZOFFSETFROM:-0400
TZOFFSETTO:-0500
TZNAME:EST
DTSTART:20261101T060000
END:STANDARD
BEGIN:DAYLIGHT
TZOFFSETFROM:-0500
TZOFFSETTO:-0400
TZNAME:EDT
DTSTART:20270314T070000
END:DAYLIGHT
BEGIN:STANDARD
TZOFFSETFROM:-0400
TZOFFSETTO:-0500
TZNAME:EST
DTSTART:20271107T060000
END:STANDARD
END:VTIMEZONE
BEGIN:VEVENT
DTSTART;TZID=America/New_York:20260422T120000
DTEND;TZID=America/New_York:20260422T130000
DTSTAMP:20260421T105548
CREATED:20260202T202919Z
LAST-MODIFIED:20260413T170602Z
UID:10000365-1776859200-1776862800@university.gbes.com
SUMMARY:From Prep to Passing: Credential Orientation - April
DESCRIPTION:This monthly live orientation session is designed for learners enrolled in exam prep for LEED Green Associate\, LEED AP\, or WELL AP who want a clear understanding of the credential exam process. This session does not teach exam content. Instead\, it focuses on what to expect before\, during\, and after your exam so you can approach test day with confidence.\nTopics include:\n\nHow to register for your exam and choose a testing format\nWhat the exam experience looks like on test day\nKey exam rules\, policies\, and common mistakes to avoid\nHow scoring and results work\nWhat is required to maintain your credential after you pass\n\nBy the end of the session\, you will understand the full exam process and know exactly what steps to take from registration through credential maintenance.\nREGISTER HERE\n\n\n\n\n\n					Sign Up \n				Learn More
URL:https://university.gbes.com/event/from-prep-to-passing-credential-orientation-3/
CATEGORIES:Event
ATTACH;FMTTYPE=image/png:https://university.gbes.com/wp-content/uploads/sites/21/2026/02/Exam-Orientation-Image.png
ORGANIZER;CN="GBES":MAILTO:GBES.Support@TuvSud.com
LOCATION:https://university.gbes.com/event/from-prep-to-passing-credential-orientation-3/
END:VEVENT
BEGIN:VEVENT
DTSTART;TZID=America/New_York:20260423T120000
DTEND;TZID=America/New_York:20260423T140000
DTSTAMP:20260421T105548
CREATED:20251103T201430Z
LAST-MODIFIED:20260119T195613Z
UID:10000241-1776945600-1776952800@university.gbes.com
SUMMARY:April 2026 Online Live 4-Part LEED v4 AP BD+C Exam Prep Training Course
DESCRIPTION:GBES welcomes you to the April 2026 LEEDv4 AP BD+C Exam Prep training course. \nWhat You’ll Learn:\n● Learn and practice the three exam areas – Recognition\, Application\, and Analysis.\n● Identify and discuss in detail the key components of the LEED BD+C Rating System.\n● Recognize and examine the key goals and concepts of the LEED BD+C Rating System.\n● Describe successful green building and LEED BD+C strategies using current LEED case studies. \nDon’t worry about missing a class! You’ll receive access to our recorded classes. Please note that class times and dates are subject to change. In the event that fewer than three students attend a live session\, the class may be canceled\, and a pre-recorded session will be provided as an alternative. \n\n\n\n\n\n					Sign Up \n				Learn More
URL:https://university.gbes.com/event/april-2026-online-live-4-part-leed-v4-ap-bdc-exam-prep-training-course/2026-04-23/
CATEGORIES:LEED AP BD+C,Live Online Classes
ATTACH;FMTTYPE=image/jpeg:https://university.gbes.com/wp-content/uploads/sites/21/2022/11/AdobeStock_134281882-scaled.jpeg
ORGANIZER;CN="GBES":MAILTO:GBES.Support@TuvSud.com
LOCATION:https://university.gbes.com/event/april-2026-online-live-4-part-leed-v4-ap-bdc-exam-prep-training-course/2026-04-23/
END:VEVENT
BEGIN:VEVENT
DTSTART;TZID=America/New_York:20260507T120000
DTEND;TZID=America/New_York:20260507T140000
DTSTAMP:20260421T105548
CREATED:20251103T201950Z
LAST-MODIFIED:20260108T205614Z
UID:10000242-1778155200-1778162400@university.gbes.com
SUMMARY:May 2026 Online Live 4-Part LEED v4 AP BD+C Exam Prep Training Course
DESCRIPTION:GBES welcomes you to the May 2026 LEED v4 AP BD+C Exam Prep training course. \nWhat You’ll Learn: \n\nLearn and practice the three exam areas – Recognition\, Application\, and Analysis.\nIdentify and discuss in detail the key components of the LEED BD+C Rating System.\nRecognize and examine the key goals and concepts of the LEED BD+C Rating System.\nDescribe successful green building and LEED BD+C strategies using current LEED case studies.\n\nDon’t worry about missing a class! You’ll receive access to our recorded classes. \nPlease note that class times and dates are subject to change. In the event that fewer than three students attend a live session\, the class may be canceled\, and a pre-recorded session will be provided as an alternative. \n\n\n\n\n\n					Sign Up \n				Learn More
URL:https://university.gbes.com/event/may-2026-online-live-4-part-leed-v4-ap-bdc-exam-prep-training-course/2026-05-07/
CATEGORIES:LEED AP BD+C,Live Online Classes
ATTACH;FMTTYPE=image/jpeg:https://university.gbes.com/wp-content/uploads/sites/21/2022/11/AdobeStock_134281882-scaled.jpeg
ORGANIZER;CN="GBES":MAILTO:GBES.Support@TuvSud.com
LOCATION:https://university.gbes.com/event/may-2026-online-live-4-part-leed-v4-ap-bdc-exam-prep-training-course/2026-05-07/
END:VEVENT
BEGIN:VEVENT
DTSTART;TZID=America/New_York:20260512T120000
DTEND;TZID=America/New_York:20260512T130000
DTSTAMP:20260421T105548
CREATED:20260417T124128Z
LAST-MODIFIED:20260417T191611Z
UID:10000373-1778587200-1778590800@university.gbes.com
SUMMARY:May 2026 LEED v5 Exam Prep with Live Q&A - Green Associate
DESCRIPTION:Come with questions from the assigned video lessons to get help clarifying challenging topics\, improving exam reasoning\, and avoiding common exam traps. Please complete the weekly video lessons in advance. The session focuses on application and discussion\, not content delivery. \nThis session is reserved for learners enrolled in the May LEED v5 Exam Prep with Live Q&A – Green Associate course. \n\n\n\n\n\n					Sign Up \n				Learn More
URL:https://university.gbes.com/event/may-2026-leed-v5-exam-prep-with-live-qa-green-associate/2026-05-12/
CATEGORIES:Green Associate,Live Online Classes
ATTACH;FMTTYPE=image/jpeg:https://university.gbes.com/wp-content/uploads/sites/21/2026/04/Live-Q-A-scaled.jpg
ORGANIZER;CN="GBES":MAILTO:GBES.Support@TuvSud.com
LOCATION:
END:VEVENT
BEGIN:VEVENT
DTSTART;TZID=America/New_York:20260514T120000
DTEND;TZID=America/New_York:20260514T140000
DTSTAMP:20260421T105548
CREATED:20251103T201950Z
LAST-MODIFIED:20260108T205614Z
UID:10000243-1778760000-1778767200@university.gbes.com
SUMMARY:May 2026 Online Live 4-Part LEED v4 AP BD+C Exam Prep Training Course
DESCRIPTION:GBES welcomes you to the May 2026 LEED v4 AP BD+C Exam Prep training course. \nWhat You’ll Learn: \n\nLearn and practice the three exam areas – Recognition\, Application\, and Analysis.\nIdentify and discuss in detail the key components of the LEED BD+C Rating System.\nRecognize and examine the key goals and concepts of the LEED BD+C Rating System.\nDescribe successful green building and LEED BD+C strategies using current LEED case studies.\n\nDon’t worry about missing a class! You’ll receive access to our recorded classes. \nPlease note that class times and dates are subject to change. In the event that fewer than three students attend a live session\, the class may be canceled\, and a pre-recorded session will be provided as an alternative. \n\n\n\n\n\n					Sign Up \n				Learn More
URL:https://university.gbes.com/event/may-2026-online-live-4-part-leed-v4-ap-bdc-exam-prep-training-course/2026-05-14/
CATEGORIES:LEED AP BD+C,Live Online Classes
ATTACH;FMTTYPE=image/jpeg:https://university.gbes.com/wp-content/uploads/sites/21/2022/11/AdobeStock_134281882-scaled.jpeg
ORGANIZER;CN="GBES":MAILTO:GBES.Support@TuvSud.com
LOCATION:https://university.gbes.com/event/may-2026-online-live-4-part-leed-v4-ap-bdc-exam-prep-training-course/2026-05-14/
END:VEVENT
BEGIN:VEVENT
DTSTART;TZID=America/New_York:20260519T120000
DTEND;TZID=America/New_York:20260519T130000
DTSTAMP:20260421T105548
CREATED:20260417T124128Z
LAST-MODIFIED:20260417T191611Z
UID:10000374-1779192000-1779195600@university.gbes.com
SUMMARY:May 2026 LEED v5 Exam Prep with Live Q&A - Green Associate
DESCRIPTION:Come with questions from the assigned video lessons to get help clarifying challenging topics\, improving exam reasoning\, and avoiding common exam traps. Please complete the weekly video lessons in advance. The session focuses on application and discussion\, not content delivery. \nThis session is reserved for learners enrolled in the May LEED v5 Exam Prep with Live Q&A – Green Associate course. \n\n\n\n\n\n					Sign Up \n				Learn More
URL:https://university.gbes.com/event/may-2026-leed-v5-exam-prep-with-live-qa-green-associate/2026-05-19/
CATEGORIES:Green Associate,Live Online Classes
ATTACH;FMTTYPE=image/jpeg:https://university.gbes.com/wp-content/uploads/sites/21/2026/04/Live-Q-A-scaled.jpg
ORGANIZER;CN="GBES":MAILTO:GBES.Support@TuvSud.com
LOCATION:
END:VEVENT
BEGIN:VEVENT
DTSTART;TZID=America/New_York:20260520T130000
DTEND;TZID=America/New_York:20260520T140000
DTSTAMP:20260421T105548
CREATED:20260415T123539Z
LAST-MODIFIED:20260415T123631Z
UID:10000377-1779282000-1779285600@university.gbes.com
SUMMARY:Building for the Future: Enhancing Resilience with Cool Surfaces in LEED v5
DESCRIPTION:Solar-reflective roofs\, walls\, and pavements reduce heat exposure from individual buildings to communities and globally. LEED v5 integrates surface reflectance across multiple credits and prerequisites\, recognizing its impact on energy\, health\, durability\, and urban heat-island mitigation. The session will address shortcomings in historical climate data and highlight the importance of forward-looking assessments for building design. Presenters will outline relevant LEED v5 credits\, how to use third-party radiative property ratings for documentation\, and certified project examples. Emphasizing systems thinking\, they show how cool surfaces connect envelope\, site\, energy\, and occupant health. \nAfter attending this session\, participants will be able to: \n\nDescribe how LEED v5 integrates cool surface requirements across multiple credits and prerequisites to address heat resilience at building and site scales.\nIdentify the radiative properties that define cool surface performance and explain how third-party rating systems support product comparison and LEED documentation.\nEvaluate the limitations of historical climate baselines for heat exposure and explain how forward-looking climate data informs material and design decisions over a 50-year service life.\nExplain how cool surfaces function within a systems approach to heat-resilient design\, connecting envelope performance\, energy use\, occupant health\, and urban heat island mitigation.\n\nThis webinar can be self-reported for 1 free general-hour of LEED\, WELL\, and/or AIA continuing education. \n\n\n\n\n\n					Sign Up \n				Learn More
URL:https://university.gbes.com/event/building-for-the-future-enhancing-resilience-with-cool-surfaces-in-leed-v5/
CATEGORIES:Event,Webinars
ATTACH;FMTTYPE=image/jpeg:https://university.gbes.com/wp-content/uploads/sites/21/2026/04/Cool-Roofs.jpg
ORGANIZER;CN="GBES":MAILTO:GBES.Support@TuvSud.com
LOCATION:https://university.gbes.com/event/building-for-the-future-enhancing-resilience-with-cool-surfaces-in-leed-v5/
END:VEVENT
BEGIN:VEVENT
DTSTART;TZID=America/New_York:20260521T120000
DTEND;TZID=America/New_York:20260521T140000
DTSTAMP:20260421T105548
CREATED:20251103T201950Z
LAST-MODIFIED:20260108T205614Z
UID:10000244-1779364800-1779372000@university.gbes.com
SUMMARY:May 2026 Online Live 4-Part LEED v4 AP BD+C Exam Prep Training Course
DESCRIPTION:GBES welcomes you to the May 2026 LEED v4 AP BD+C Exam Prep training course. \nWhat You’ll Learn: \n\nLearn and practice the three exam areas – Recognition\, Application\, and Analysis.\nIdentify and discuss in detail the key components of the LEED BD+C Rating System.\nRecognize and examine the key goals and concepts of the LEED BD+C Rating System.\nDescribe successful green building and LEED BD+C strategies using current LEED case studies.\n\nDon’t worry about missing a class! You’ll receive access to our recorded classes. \nPlease note that class times and dates are subject to change. In the event that fewer than three students attend a live session\, the class may be canceled\, and a pre-recorded session will be provided as an alternative. \n\n\n\n\n\n					Sign Up \n				Learn More
URL:https://university.gbes.com/event/may-2026-online-live-4-part-leed-v4-ap-bdc-exam-prep-training-course/2026-05-21/
CATEGORIES:LEED AP BD+C,Live Online Classes
ATTACH;FMTTYPE=image/jpeg:https://university.gbes.com/wp-content/uploads/sites/21/2022/11/AdobeStock_134281882-scaled.jpeg
ORGANIZER;CN="GBES":MAILTO:GBES.Support@TuvSud.com
LOCATION:https://university.gbes.com/event/may-2026-online-live-4-part-leed-v4-ap-bdc-exam-prep-training-course/2026-05-21/
END:VEVENT
BEGIN:VEVENT
DTSTART;TZID=America/New_York:20260526T120000
DTEND;TZID=America/New_York:20260526T130000
DTSTAMP:20260421T105548
CREATED:20260417T124128Z
LAST-MODIFIED:20260417T191611Z
UID:10000375-1779796800-1779800400@university.gbes.com
SUMMARY:May 2026 LEED v5 Exam Prep with Live Q&A - Green Associate
DESCRIPTION:Come with questions from the assigned video lessons to get help clarifying challenging topics\, improving exam reasoning\, and avoiding common exam traps. Please complete the weekly video lessons in advance. The session focuses on application and discussion\, not content delivery. \nThis session is reserved for learners enrolled in the May LEED v5 Exam Prep with Live Q&A – Green Associate course. \n\n\n\n\n\n					Sign Up \n				Learn More
URL:https://university.gbes.com/event/may-2026-leed-v5-exam-prep-with-live-qa-green-associate/2026-05-26/
CATEGORIES:Green Associate,Live Online Classes
ATTACH;FMTTYPE=image/jpeg:https://university.gbes.com/wp-content/uploads/sites/21/2026/04/Live-Q-A-scaled.jpg
ORGANIZER;CN="GBES":MAILTO:GBES.Support@TuvSud.com
LOCATION:
END:VEVENT
BEGIN:VEVENT
DTSTART;TZID=America/New_York:20260527T120000
DTEND;TZID=America/New_York:20260527T130000
DTSTAMP:20260421T105548
CREATED:20260202T203819Z
LAST-MODIFIED:20260202T203819Z
UID:10000248-1779883200-1779886800@university.gbes.com
SUMMARY:From Prep to Passing: Credential Orientation - May
DESCRIPTION:This live orientation session is designed for learners enrolled in exam prep for LEED Green Associate\, LEED AP\, or WELL who want a clear understanding of the credential exam process. This session does not teach exam content. Instead\, it focuses on what to expect before\, during\, and after your exam so you can approach test day with confidence. \nTopics include: \n\nHow to register for your exam and choose a testing format\nWhat the exam experience looks like on test day\nKey exam rules\, policies\, and common mistakes to avoid\nHow scoring and results work\nWhat is required to maintain your credential after you pass\n\nBy the end of the session\, you will understand the full exam process and know exactly what steps to take from registration through credential maintenance. \n REGISTER HERE\n\n\n\n\n\n					Sign Up \n				Learn More
URL:https://university.gbes.com/event/from-prep-to-passing-credential-orientation-may/
CATEGORIES:Event
ATTACH;FMTTYPE=image/png:https://university.gbes.com/wp-content/uploads/sites/21/2026/02/Exam-Orientation-Image.png
ORGANIZER;CN="GBES":MAILTO:GBES.Support@TuvSud.com
END:VEVENT
BEGIN:VEVENT
DTSTART;TZID=America/New_York:20260528T120000
DTEND;TZID=America/New_York:20260528T140000
DTSTAMP:20260421T105548
CREATED:20251103T201950Z
LAST-MODIFIED:20260108T205614Z
UID:10000245-1779969600-1779976800@university.gbes.com
SUMMARY:May 2026 Online Live 4-Part LEED v4 AP BD+C Exam Prep Training Course
DESCRIPTION:GBES welcomes you to the May 2026 LEED v4 AP BD+C Exam Prep training course. \nWhat You’ll Learn: \n\nLearn and practice the three exam areas – Recognition\, Application\, and Analysis.\nIdentify and discuss in detail the key components of the LEED BD+C Rating System.\nRecognize and examine the key goals and concepts of the LEED BD+C Rating System.\nDescribe successful green building and LEED BD+C strategies using current LEED case studies.\n\nDon’t worry about missing a class! You’ll receive access to our recorded classes. \nPlease note that class times and dates are subject to change. In the event that fewer than three students attend a live session\, the class may be canceled\, and a pre-recorded session will be provided as an alternative. \n\n\n\n\n\n					Sign Up \n				Learn More
URL:https://university.gbes.com/event/may-2026-online-live-4-part-leed-v4-ap-bdc-exam-prep-training-course/2026-05-28/
CATEGORIES:LEED AP BD+C,Live Online Classes
ATTACH;FMTTYPE=image/jpeg:https://university.gbes.com/wp-content/uploads/sites/21/2022/11/AdobeStock_134281882-scaled.jpeg
ORGANIZER;CN="GBES":MAILTO:GBES.Support@TuvSud.com
LOCATION:https://university.gbes.com/event/may-2026-online-live-4-part-leed-v4-ap-bdc-exam-prep-training-course/2026-05-28/
END:VEVENT
BEGIN:VEVENT
DTSTART;TZID=America/New_York:20260602T120000
DTEND;TZID=America/New_York:20260602T130000
DTSTAMP:20260421T105548
CREATED:20260417T124128Z
LAST-MODIFIED:20260417T191611Z
UID:10000376-1780401600-1780405200@university.gbes.com
SUMMARY:May 2026 LEED v5 Exam Prep with Live Q&A - Green Associate
DESCRIPTION:Come with questions from the assigned video lessons to get help clarifying challenging topics\, improving exam reasoning\, and avoiding common exam traps. Please complete the weekly video lessons in advance. The session focuses on application and discussion\, not content delivery. \nThis session is reserved for learners enrolled in the May LEED v5 Exam Prep with Live Q&A – Green Associate course. \n\n\n\n\n\n					Sign Up \n				Learn More
URL:https://university.gbes.com/event/may-2026-leed-v5-exam-prep-with-live-qa-green-associate/2026-06-02/
CATEGORIES:Green Associate,Live Online Classes
ATTACH;FMTTYPE=image/jpeg:https://university.gbes.com/wp-content/uploads/sites/21/2026/04/Live-Q-A-scaled.jpg
ORGANIZER;CN="GBES":MAILTO:GBES.Support@TuvSud.com
LOCATION:
END:VEVENT
BEGIN:VEVENT
DTSTART;TZID=America/New_York:20260624T120000
DTEND;TZID=America/New_York:20260624T130000
DTSTAMP:20260421T105548
CREATED:20260202T204607Z
LAST-MODIFIED:20260202T204607Z
UID:10000366-1782302400-1782306000@university.gbes.com
SUMMARY:From Prep to Passing: Credential Orientation - June
DESCRIPTION:This monthly live orientation session is designed for learners enrolled in exam prep for LEED Green Associate\, LEED AP\, or WELL AP who want a clear understanding of the credential exam process. This session does not teach exam content. Instead\, it focuses on what to expect before\, during\, and after your exam so you can approach test day with confidence. \nTopics include: \n\nHow to register for your exam and choose a testing format\nWhat the exam experience looks like on test day\nKey exam rules\, policies\, and common mistakes to avoid\nHow scoring and results work\nWhat is required to maintain your credential after you pass\n\nBy the end of the session\, you will understand the full exam process and know exactly what steps to take from registration through credential maintenance. \nREGISTER HERE\n\n\n\n\n\n					Sign Up \n				Learn More
URL:https://university.gbes.com/event/from-prep-to-passing-credential-orientation-june/
CATEGORIES:Event
ATTACH;FMTTYPE=image/png:https://university.gbes.com/wp-content/uploads/sites/21/2026/02/Exam-Orientation-Image.png
ORGANIZER;CN="GBES":MAILTO:GBES.Support@TuvSud.com
END:VEVENT
BEGIN:VEVENT
DTSTART;TZID=America/New_York:20260722T120000
DTEND;TZID=America/New_York:20260722T130000
DTSTAMP:20260421T105548
CREATED:20260202T211227Z
LAST-MODIFIED:20260202T211747Z
UID:10000367-1784721600-1784725200@university.gbes.com
SUMMARY:From Prep to Passing: Credential Orientation - July
DESCRIPTION:This monthly live orientation session is designed for learners enrolled in exam prep for LEED Green Associate\, LEED AP\, or WELL AP who want a clear understanding of the credential exam process. This session does not teach exam content. Instead\, it focuses on what to expect before\, during\, and after your exam so you can approach test day with confidence. \nTopics include: \n\nHow to register for your exam and choose a testing format\nWhat the exam experience looks like on test day\nKey exam rules\, policies\, and common mistakes to avoid\nHow scoring and results work\nWhat is required to maintain your credential after you pass\n\nBy the end of the session\, you will understand the full exam process and know exactly what steps to take from registration through credential maintenance. \nREGISTER HERE\n\n\n\n\n\n					Sign Up \n				Learn More
URL:https://university.gbes.com/event/from-prep-to-passing-credential-orientation-4/
CATEGORIES:Event
ATTACH;FMTTYPE=image/png:https://university.gbes.com/wp-content/uploads/sites/21/2026/02/Exam-Orientation-Image.png
ORGANIZER;CN="GBES":MAILTO:GBES.Support@TuvSud.com
END:VEVENT
BEGIN:VEVENT
DTSTART;TZID=America/New_York:20260826T120000
DTEND;TZID=America/New_York:20260826T130000
DTSTAMP:20260421T105548
CREATED:20260202T211715Z
LAST-MODIFIED:20260202T211715Z
UID:10000368-1787745600-1787749200@university.gbes.com
SUMMARY:From Prep to Passing: Credential Orientation - August
DESCRIPTION:This monthly live orientation session is designed for learners enrolled in exam prep for LEED Green Associate\, LEED AP\, or WELL AP who want a clear understanding of the credential exam process. This session does not teach exam content. Instead\, it focuses on what to expect before\, during\, and after your exam so you can approach test day with confidence. \nTopics include: \n\nHow to register for your exam and choose a testing format\nWhat the exam experience looks like on test day\nKey exam rules\, policies\, and common mistakes to avoid\nHow scoring and results work\nWhat is required to maintain your credential after you pass\n\nBy the end of the session\, you will understand the full exam process and know exactly what steps to take from registration through credential maintenance. \nREGISTER HERE\n\n\n\n\n\n					Sign Up \n				Learn More
URL:https://university.gbes.com/event/from-prep-to-passing-credential-orientation-august/
ATTACH;FMTTYPE=image/png:https://university.gbes.com/wp-content/uploads/sites/21/2026/02/Exam-Orientation-Image.png
ORGANIZER;CN="GBES":MAILTO:GBES.Support@TuvSud.com
END:VEVENT
BEGIN:VEVENT
DTSTART;TZID=America/New_York:20260923T120000
DTEND;TZID=America/New_York:20260923T130000
DTSTAMP:20260421T105548
CREATED:20260202T212123Z
LAST-MODIFIED:20260202T212240Z
UID:10000369-1790164800-1790168400@university.gbes.com
SUMMARY:From Prep to Passing: Credential Orientation - September
DESCRIPTION:This monthly live orientation session is designed for learners enrolled in exam prep for LEED Green Associate\, LEED AP\, or WELL AP who want a clear understanding of the credential exam process. This session does not teach exam content. Instead\, it focuses on what to expect before\, during\, and after your exam so you can approach test day with confidence. \nTopics include: \n\nHow to register for your exam and choose a testing format\nWhat the exam experience looks like on test day\nKey exam rules\, policies\, and common mistakes to avoid\nHow scoring and results work\nWhat is required to maintain your credential after you pass\n\nBy the end of the session\, you will understand the full exam process and know exactly what steps to take from registration through credential maintenance. \nREGISTER HERE\n\n\n\n\n\n					Sign Up \n				Learn More
URL:https://university.gbes.com/event/from-prep-to-passing-credential-orientation-september/
CATEGORIES:Event
ATTACH;FMTTYPE=image/png:https://university.gbes.com/wp-content/uploads/sites/21/2026/02/Exam-Orientation-Image.png
ORGANIZER;CN="GBES":MAILTO:GBES.Support@TuvSud.com
END:VEVENT
BEGIN:VEVENT
DTSTART;TZID=America/New_York:20261022T120000
DTEND;TZID=America/New_York:20261022T130000
DTSTAMP:20260421T105548
CREATED:20260202T212801Z
LAST-MODIFIED:20260202T215727Z
UID:10000370-1792670400-1792674000@university.gbes.com
SUMMARY:From Prep to Passing: Credential Orientation - October
DESCRIPTION:This monthly live orientation session is designed for learners enrolled in exam prep for LEED Green Associate\, LEED AP\, or WELL AP who want a clear understanding of the credential exam process. This session does not teach exam content. Instead\, it focuses on what to expect before\, during\, and after your exam so you can approach test day with confidence. \nTopics include: \n\nHow to register for your exam and choose a testing format\nWhat the exam experience looks like on test day\nKey exam rules\, policies\, and common mistakes to avoid\nHow scoring and results work\nWhat is required to maintain your credential after you pass\n\nBy the end of the session\, you will understand the full exam process and know exactly what steps to take from registration through credential maintenance. \nREGISTER HERE\n\n\n\n\n\n					Sign Up \n				Learn More
URL:https://university.gbes.com/event/from-prep-to-passing-credential-orientation-october/
CATEGORIES:Event
ATTACH;FMTTYPE=image/png:https://university.gbes.com/wp-content/uploads/sites/21/2026/02/Exam-Orientation-Image.png
ORGANIZER;CN="GBES":MAILTO:GBES.Support@TuvSud.com
END:VEVENT
END:VCALENDAR